{"text_format":"1","workbook":"xlsx","n_sheets":3,"sheets":["入力シート","出力シート","ﾌﾟﾛﾌｨｰﾙ"],"not_rendered":{"charts":0,"images":0,"macros":1,"external_links":0,"defined_names":0,"comments":0,"pivot_tables":0},"unopened":[],"bounds":{"document_bytes":16777216,"sheet_cells":100000,"rows_first":2000,"rows_last":500,"rows_between":2000,"halvings":0,"cell_chars":16384,"cell_head_chars":4096},"cells_cut":0,"cells_raw":0,"read":"whole","date_system":"1900"}

{"sheet":"入力シート","index":0,"n_rows":29,"n_cols":16,"rows_kept":29,"cut":false,"hidden":false,"merged":[[1,2,1,7],[7,2,7,3],[3,2,3,4],[4,2,4,4],[5,2,5,4],[6,2,6,4],[3,5,5,7],[6,5,6,7],[11,1,27,1],[2,2,2,7],[15,3,15,4],[16,3,16,4],[8,2,8,4],[10,3,10,4],[9,3,9,4],[14,3,14,4],[11,3,11,4],[27,3,27,4],[28,2,28,4],[7,5,7,6],[22,3,22,4],[23,3,23,4],[24,3,24,4],[25,3,25,4],[26,3,26,4],[17,3,17,4],[18,3,18,4],[19,3,19,4],[20,3,20,4],[21,3,21,4],[12,3,12,4],[13,3,13,4]]}
[]
[null,"学校名"]
[null,"所在地"]
[null,"校長名",null,null,null,"【注】\n姓と名の間にスペース\n(空白)を入れてください。\n",null,null,null,{"$f":"IF(C4=\"\",\"\",FIND(\"　\",C4,1)-1)","v":""},{"$f":"IF(C4=\"\",\"\",LEN(C4)-J4-1)","v":""},{"$f":"IF(C4=\"\",\"\",(LEFT(C4,J4)))","v":""},{"$f":"IF(C4=\"\",\"\",(RIGHT(C4,K4)))","v":""},{"$f":"IF(C4=\"\",\"\",CHOOSE(J4,L4&\"　　\",LEFT(L4,1)&\"　\"&RIGHT(L4,1),L4))","v":""},{"$f":"IF(C4=\"\",\"\",CHOOSE(K4,\"　　\"&M4,LEFT(M4,1)&\"　\"&RIGHT(M4,1),M4))","v":""},{"$f":"IFERROR(N4&\"　\"&O4,C4)","v":"　"}]
[null,"引率職員",null,null,null,null,null,null,null,"","","","","","","　"]
[null,"監督",null,null,null,null,null,null,null,"","","","","","","　"]
[null,"コーチ",null,null,null,"マネージャーの学年･中学を入力",null,null,null,"","","","","","","　"]
[null,"マネージャー",null,null,"学年","出身中学",null,"してください。",null,"","","","","","","　"]
[null,"主将",null,null,null,null,null,"（学年は数字のみ）",null,"","","","","","","　"]
[null,"選手","背番号","選 手 名",null,"学年","身長","出身中学"]
[null,"【注】",null,null,null,null,null,null,null,{"$f":"IF(D11=\"\",\"\",FIND(\"　\",D11,1)-1)","v":""},{"$f":"IF(D11=\"\",\"\",LEN(D11)-J11-1)","v":""},{"$f":"IF(D11=\"\",\"\",(LEFT(D11,J11)))","v":""},{"$f":"IF(D11=\"\",\"\",(RIGHT(D11,K11)))","v":""},{"$f":"IF(D11=\"\",\"\",CHOOSE(J11,L11&\"　　\",LEFT(L11,1)&\"　\"&RIGHT(L11,1),L11))","v":""},{"$f":"IF(D11=\"\",\"\",CHOOSE(K11,\"　　\"&M11,LEFT(M11,1)&\"　\"&RIGHT(M11,1),M11))","v":""},{"$f":"IFERROR(N11&\"　\"&O11,D11)","v":"　"}]
[null,"姓と名の間にスペース(空白)を入れてください",null,null,null,null,null,null,null,"","","","","","","　"]
[null,null,null,null,null,null,null,null,null,"","","","","","","　"]
[null,null,null,null,null,null,null,null,null,"","","","","","","　"]
[null,null,null,null,null,null,null,null,null,"","","","","","","　"]
[null,null,null,null,null,null,null,null,null,"","","","","","","　"]
[null,null,null,null,null,null,null,null,null,"","","","","","","　"]
[null,null,null,null,null,null,null,null,null,"","","","","","","　"]
[null,null,null,null,null,null,null,null,null,"","","","","","","　"]
[null,null,null,null,null,null,null,null,null,"","","","","","","　"]
[null,null,null,null,null,null,null,null,null,"","","","","","","　"]
[null,null,null,null,null,null,null,null,null,"","","","","","","　"]
[null,null,null,null,null,null,null,null,null,"","","","","","","　"]
[null,null,null,null,null,null,null,null,null,"","","","","","","　"]
[null,null,null,null,null,null,null,null,null,"","","","","","","　"]
[null,null,null,null,null,null,null,null,null,"","","","","","","　"]
[null,null,null,null,null,null,null,null,null,"","","","","","","　"]
[null,null,null,null,null,null,null,null,null,"","","","","","","　"]
[null,"入力日",{"$f":"TODAY()","v":"2019-07-03"}]

{"sheet":"出力シート","index":1,"n_rows":33,"n_cols":14,"rows_kept":33,"cut":false,"hidden":false,"merged":[[0,0,0,13],[5,1,5,2],[5,3,5,12],[6,1,6,2],[6,3,6,12],[1,3,1,13],[2,0,2,13],[4,1,4,2],[4,3,4,12],[27,3,27,9],[32,8,32,9],[32,10,32,12],[23,3,23,9],[24,3,24,9],[25,3,25,9],[26,3,26,9],[31,8,31,12],[30,1,30,6],[11,3,11,9],[12,3,12,9],[15,3,15,9],[16,3,16,9],[19,3,19,9],[13,3,13,9],[14,3,14,9],[20,3,20,9],[21,3,21,9],[22,3,22,9],[17,3,17,9],[18,3,18,9],[10,3,10,9],[7,2,7,7],[7,9,7,12],[8,2,8,7],[8,9,8,12],[9,3,9,9]]}
["第７２回全日本バレーボール高等学校選手権大会千葉県代表決定戦"]
[]
["大　会　申　込　書"]
[]
[" ","学　校　名",null,{"$f":"入力シート!C2","v":0}]
[null,"所　在　地",null,{"$f":"入力シート!C3","v":0}]
[null,"引率教員",null,{"$f":"入力シート!P5","v":"　"}]
[null,"監督",{"$f":"入力シート!P6","v":"　"},null,null,null,null,null,"コーチ",{"$f":"入力シート!P7","v":"　"}]
[null,"マネ",{"$f":"入力シート!P8","v":"　"},null,null,null,null,null,"主将",{"$f":"入力シート!P9","v":"　"}]
[null,"ＮＯ","背番","選　　手　　名",null,null,null,null,null,null,"学年","身長","出 身 中"]
[null,1,{"$f":"入力シート!C11","v":0},{"$f":"入力シート!P11","v":"　"},null,null,null,null,null,null,{"$f":"入力シート!F11","v":0},{"$f":"入力シート!G11","v":0},{"$f":"入力シート!H11","v":0}]
[null,2,{"$f":"入力シート!C12","v":0},{"$f":"入力シート!P12","v":"　"},null,null,null,null,null,null,{"$f":"入力シート!F12","v":0},{"$f":"入力シート!G12","v":0},{"$f":"入力シート!H12","v":0}]
[null,3,{"$f":"入力シート!C13","v":0},{"$f":"入力シート!P13","v":"　"},null,null,null,null,null,null,{"$f":"入力シート!F13","v":0},{"$f":"入力シート!G13","v":0},{"$f":"入力シート!H13","v":0}]
[null,4,{"$f":"入力シート!C14","v":0},{"$f":"入力シート!P14","v":"　"},null,null,null,null,null,null,{"$f":"入力シート!F14","v":0},{"$f":"入力シート!G14","v":0},{"$f":"入力シート!H14","v":0}]
[null,5,{"$f":"入力シート!C15","v":0},{"$f":"入力シート!P15","v":"　"},null,null,null,null,null,null,{"$f":"入力シート!F15","v":0},{"$f":"入力シート!G15","v":0},{"$f":"入力シート!H15","v":0}]
[null,6,{"$f":"入力シート!C16","v":0},{"$f":"入力シート!P16","v":"　"},null,null,null,null,null,null,{"$f":"入力シート!F16","v":0},{"$f":"入力シート!G16","v":0},{"$f":"入力シート!H16","v":0}]
[null,7,{"$f":"入力シート!C17","v":0},{"$f":"入力シート!P17","v":"　"},null,null,null,null,null,null,{"$f":"入力シート!F17","v":0},{"$f":"入力シート!G17","v":0},{"$f":"入力シート!H17","v":0}]
[null,8,{"$f":"入力シート!C18","v":0},{"$f":"入力シート!P18","v":"　"},null,null,null,null,null,null,{"$f":"入力シート!F18","v":0},{"$f":"入力シート!G18","v":0},{"$f":"入力シート!H18","v":0}]
[null,9,{"$f":"入力シート!C19","v":0},{"$f":"入力シート!P19","v":"　"},null,null,null,null,null,null,{"$f":"入力シート!F19","v":0},{"$f":"入力シート!G19","v":0},{"$f":"入力シート!H19","v":0}]
[null,10,{"$f":"入力シート!C20","v":0},{"$f":"入力シート!P20","v":"　"},null,null,null,null,null,null,{"$f":"入力シート!F20","v":0},{"$f":"入力シート!G20","v":0},{"$f":"入力シート!H20","v":0}]
[null,11,{"$f":"入力シート!C21","v":0},{"$f":"入力シート!P21","v":"　"},null,null,null,null,null,null,{"$f":"入力シート!F21","v":0},{"$f":"入力シート!G21","v":0},{"$f":"入力シート!H21","v":0}]
[null,12,{"$f":"入力シート!C22","v":0},{"$f":"入力シート!P22","v":"　"},null,null,null,null,null,null,{"$f":"入力シート!F22","v":0},{"$f":"入力シート!G22","v":0},{"$f":"入力シート!H22","v":0}]
[null,13,{"$f":"入力シート!C23","v":0},{"$f":"入力シート!P23","v":"　"},null,null,null,null,null,null,{"$f":"入力シート!F23","v":0},{"$f":"入力シート!G23","v":0},{"$f":"入力シート!H23","v":0}]
[null,14,{"$f":"入力シート!C24","v":0},{"$f":"入力シート!P24","v":"　"},null,null,null,null,null,null,{"$f":"入力シート!F24","v":0},{"$f":"入力シート!G24","v":0},{"$f":"入力シート!H24","v":0}]
[null,15,{"$f":"入力シート!C25","v":0},{"$f":"入力シート!P25","v":"　"},null,null,null,null,null,null,{"$f":"入力シート!F25","v":0},{"$f":"入力シート!G25","v":0},{"$f":"入力シート!H25","v":0}]
[null,16,{"$f":"入力シート!C26","v":0},{"$f":"入力シート!P26","v":"　"},null,null,null,null,null,null,{"$f":"入力シート!F26","v":0},{"$f":"入力シート!G26","v":0},{"$f":"入力シート!H26","v":0}]
[null,17,{"$f":"入力シート!C27","v":0},{"$f":"入力シート!P27","v":"　"},null,null,null,null,null,null,{"$f":"入力シート!F27","v":0},{"$f":"入力シート!G27","v":0},{"$f":"入力シート!H27","v":0}]
[null,18,{"$f":"入力シート!C28","v":0},{"$f":"入力シート!P28","v":"　"},null,null,null,null,null,null,{"$f":"入力シート!F28","v":0},{"$f":"入力シート!G28","v":0},{"$f":"入力シート!H28","v":0}]
[]
[" 上記の生徒の参加を認める。"]
[null,{"$f":"入力シート!C29","v":"2019-07-03"}]
[null,null,null,null,null,null,null,null,{"$f":"入力シート!C2","v":0}]
[null,null,null,null,null,null,null,null,"校長",null,{"$f":"入力シート!P4","v":"　"},null,null," 印"]

{"sheet":"ﾌﾟﾛﾌｨｰﾙ","index":2,"n_rows":53,"n_cols":12,"rows_kept":53,"cut":false,"hidden":false,"merged":[[0,0,0,11],[7,0,7,1],[7,2,8,5],[7,6,7,7],[7,8,8,11],[5,0,5,1],[5,2,6,5],[5,6,5,8],[1,0,4,0],[1,6,1,7],[1,8,2,11],[3,6,3,7],[3,8,4,11],[1,3,1,4],[2,3,2,5],[3,3,3,5],[4,3,4,5],[5,9,5,11],[9,0,13,0],[9,6,13,6],[9,9,9,10],[10,4,10,5],[11,4,11,5],[12,9,13,11],[9,3,9,4],[12,3,13,5],[10,10,10,11],[11,10,11,11],[14,0,18,0],[14,6,18,6],[14,9,14,10],[15,4,15,5],[16,4,16,5],[17,9,18,11],[14,3,14,4],[17,3,18,5],[15,10,15,11],[16,10,16,11],[19,0,23,0],[19,6,23,6],[19,9,19,10],[20,4,20,5],[21,4,21,5],[22,9,23,11],[19,3,19,4],[22,3,23,5],[20,10,20,11],[21,10,21,11],[24,0,28,0],[24,6,28,6],[24,9,24,10],[25,4,25,5],[26,4,26,5],[27,9,28,11],[24,3,24,4],[27,3,28,5],[25,10,25,11],[26,10,26,11],[29,0,33,0],[29,6,33,6],[29,9,29,10],[30,4,30,5],[31,4,31,5],[32,9,33,11],[29,3,29,4],[32,3,33,5],[30,10,30,11],[31,10,31,11],[34,0,38,0],[34,6,38,6],[34,9,34,10],[35,4,35,5],[36,4,36,5],[37,9,38,11],[34,3,34,4],[37,3,38,5],[35,10,35,11],[36,10,36,11],[39,0,43,0],[39,6,43,6],[39,9,39,10],[40,4,40,5],[41,4,41,5],[42,9,43,11],[39,3,39,4],[42,3,43,5],[40,10,40,11],[41,10,41,11],[44,0,48,0],[44,6,48,6],[44,9,44,10],[45,4,45,5],[46,4,46,5],[47,9,48,11],[44,3,44,4],[47,3,48,5],[45,10,45,11],[46,10,46,11],[49,0,53,0],[49,6,53,6],[49,9,49,10],[50,4,50,5],[51,4,51,5],[52,9,53,11],[49,3,49,4],[52,3,53,5],[50,10,50,11],[51,10,51,11]]}
["*申込用紙が背番号順に並んでいない場合、うまく反映されないのでご注意下さい。"]
["背番号",1,null,"氏　名",null,"（出身中学）","監　督",null,{"$f":"出力シート!C8","v":"　"}]
[null,2,null,"学　年"]
[null,3,null,"身　長",null,null,"モットー"]
[null,4,null,"プロフィール"]
["コーチ",null,{"$f":"出力シート!J8","v":"　"},null,null,null,"マネージャー",null,null,{"$f":"出力シート!C9","v":"　"}]
[null,null,null,null,null,null,null,null,null,null,{"$f":"IF(入力シート!E8=\"学年\",\"\",入力シート!E8&\"年\")","v":""},{"$f":"IF(入力シート!F8=\"出身中学\",\"\",IF(LEN(入力シート!F8)=2,LEFT(入力シート!F8,1)&\"　\"&RIGHT(入力シート!F8,1),入力シート!F8))","v":""}]
["モットー",null,null,null,null,null,"モットー"]
[]
[1,1,null,{"$f":"IFERROR(VLOOKUP($A$10,出力シート!$C$11:$M$28,2,FALSE),\"\")","v":""},null,{"$f":"IF(LEN(入力シート!H11)=2,LEFT(入力シート!H11,1)&\"　\"&RIGHT(入力シート!H11,1),入力シート!H11)","v":0},10,1,null,{"$f":"IFERROR(VLOOKUP($G$10,出力シート!$C$11:$M$28,2,FALSE),\"\")","v":""},null,{"$f":"IF(LEN(入力シート!H20)=2,LEFT(入力シート!H20,1)&\"　\"&RIGHT(入力シート!H20,1),入力シート!H20)","v":0}]
[null,2,null,{"$f":"IFERROR(VLOOKUP($A$10,出力シート!$C$11:$M$28,9,FALSE),\"\")","v":""},"年",null,null,2,null,{"$f":"IFERROR(VLOOKUP($G$10,出力シート!$C$11:$M$28,9,FALSE),\"\")","v":""},"年"]
[null,3,null,{"$f":"IFERROR(VLOOKUP($A$10,出力シート!$C$11:$M$28,10,FALSE),\"\")","v":""},"cm",null,null,3,null,{"$f":"IFERROR(VLOOKUP($G$10,出力シート!$C$11:$M$28,10,FALSE),\"\")","v":""},"cm"]
[null,4,null,null,null,null,null,4]
[]
[2,1,null,{"$f":"IFERROR(VLOOKUP($A$15,出力シート!$C$11:$M$28,2,FALSE),\"\")","v":""},null,{"$f":"IF(LEN(入力シート!H12)=2,LEFT(入力シート!H12,1)&\"　\"&RIGHT(入力シート!H12,1),入力シート!H12)","v":0},11,1,null,{"$f":"IFERROR(VLOOKUP($G$15,出力シート!$C$11:$M$28,2,FALSE),\"\")","v":""},null,{"$f":"IF(LEN(入力シート!H21)=2,LEFT(入力シート!H21,1)&\"　\"&RIGHT(入力シート!H21,1),入力シート!H21)","v":0}]
[null,2,null,{"$f":"IFERROR(VLOOKUP($A$15,出力シート!$C$11:$M$28,9,FALSE),\"\")","v":""},"年",null,null,2,null,{"$f":"IFERROR(VLOOKUP($G$15,出力シート!$C$11:$M$28,9,FALSE),\"\")","v":""},"年"]
[null,3,null,{"$f":"IFERROR(VLOOKUP($A$15,出力シート!$C$11:$M$28,10),\"\")","v":0},"cm",null,null,3,null,{"$f":"IFERROR(VLOOKUP($G$15,出力シート!$C$11:$M$28,10,FALSE),\"\")","v":""},"cm"]
[null,4,null,null,null,null,null,4]
[]
[3,1,null,{"$f":"IFERROR(VLOOKUP($A$20,出力シート!$C$11:$M$28,2,FALSE),\"\")","v":""},null,{"$f":"IF(LEN(入力シート!H13)=2,LEFT(入力シート!H13,1)&\"　\"&RIGHT(入力シート!H13,1),入力シート!H13)","v":0},12,1,null,{"$f":"IFERROR(VLOOKUP($G$20,出力シート!$C$11:$M$28,2,FALSE),\"\")","v":""},null,{"$f":"IF(LEN(入力シート!H22)=2,LEFT(入力シート!H22,1)&\"　\"&RIGHT(入力シート!H22,1),入力シート!H22)","v":0}]
[null,2,null,{"$f":"IFERROR(VLOOKUP($A$20,出力シート!$C$11:$M$28,9,FALSE),\"\")","v":""},"年",null,null,2,null,{"$f":"IFERROR(VLOOKUP($G$20,出力シート!$C$11:$M$28,9,FALSE),\"\")","v":""},"年"]
[null,3,null,{"$f":"IFERROR(VLOOKUP($A$20,出力シート!$C$11:$M$28,10,FALSE),\"\")","v":""},"cm",null,null,3,null,{"$f":"IFERROR(VLOOKUP($G$20,出力シート!$C$11:$M$28,10,FALSE),\"\")","v":""},"cm"]
[null,4,null,null,null,null,null,4]
[]
[4,1,null,{"$f":"IFERROR(VLOOKUP($A$25,出力シート!$C$11:$M$28,2,FALSE),\"\")","v":""},null,{"$f":"IF(LEN(入力シート!H14)=2,LEFT(入力シート!H14,1)&\"　\"&RIGHT(入力シート!H14,1),入力シート!H14)","v":0},13,1,null,{"$f":"IFERROR(VLOOKUP($G$25,出力シート!$C$11:$M$28,2,FALSE),\"\")","v":""},null,{"$f":"IF(LEN(入力シート!H23)=2,LEFT(入力シート!H23,1)&\"　\"&RIGHT(入力シート!H23,1),入力シート!H23)","v":0}]
[null,2,null,{"$f":"IFERROR(VLOOKUP($A$25,出力シート!$C$11:$M$28,9,FALSE),\"\")","v":""},"年",null,null,2,null,{"$f":"IFERROR(VLOOKUP($G$25,出力シート!$C$11:$M$28,9,FALSE),\"\")","v":""},"年"]
[null,3,null,{"$f":"IFERROR(VLOOKUP($A$25,出力シート!$C$11:$M$28,10,FALSE),\"\")","v":""},"cm",null,null,3,null,{"$f":"IFERROR(VLOOKUP($G$25,出力シート!$C$11:$M$28,10,FALSE),\"\")","v":""},"cm"]
[null,4,null,null,null,null,null,4]
[]
[5,1,null,{"$f":"IFERROR(VLOOKUP($A$30,出力シート!$C$11:$M$28,2,FALSE),\"\")","v":""},null,{"$f":"IF(LEN(入力シート!H15)=2,LEFT(入力シート!H15,1)&\"　\"&RIGHT(入力シート!H15,1),入力シート!H15)","v":0},14,1,null,{"$f":"IFERROR(VLOOKUP($G$30,出力シート!$C$11:$M$28,2,FALSE),\"\")","v":""},null,{"$f":"IF(LEN(入力シート!H24)=2,LEFT(入力シート!H24,1)&\"　\"&RIGHT(入力シート!H24,1),入力シート!H24)","v":0}]
[null,2,null,{"$f":"IFERROR(VLOOKUP($A$30,出力シート!$C$11:$M$28,9,FALSE),\"\")","v":""},"年",null,null,2,null,{"$f":"IFERROR(VLOOKUP($G$30,出力シート!$C$11:$M$28,9,FALSE),\"\")","v":""},"年"]
[null,3,null,{"$f":"IFERROR(VLOOKUP($A$30,出力シート!$C$11:$M$28,10,FALSE),\"\")","v":""},"cm",null,null,3,null,{"$f":"IFERROR(VLOOKUP($G$30,出力シート!$C$11:$M$28,10,FALSE),\"\")","v":""},"cm"]
[null,4,null,null,null,null,null,4]
[]
[6,1,null,{"$f":"IFERROR(VLOOKUP($A$35,出力シート!$C$11:$M$28,2,FALSE),\"\")","v":""},null,{"$f":"IF(LEN(入力シート!H16)=2,LEFT(入力シート!H16,1)&\"　\"&RIGHT(入力シート!H16,1),入力シート!H16)","v":0},15,1,null,{"$f":"IFERROR(VLOOKUP($G$35,出力シート!$C$11:$M$28,2,FALSE),\"\")","v":""},null,{"$f":"IF(LEN(入力シート!H25)=2,LEFT(入力シート!H25,1)&\"　\"&RIGHT(入力シート!H25,1),入力シート!H25)","v":0}]
[null,2,null,{"$f":"IFERROR(VLOOKUP($A$35,出力シート!$C$11:$M$28,9,FALSE),\"\")","v":""},"年",null,null,2,null,{"$f":"IFERROR(VLOOKUP($G$35,出力シート!$C$11:$M$28,9,FALSE),\"\")","v":""},"年"]
[null,3,null,{"$f":"IFERROR(VLOOKUP($A$35,出力シート!$C$11:$M$28,10,FALSE),\"\")","v":""},"cm",null,null,3,null,{"$f":"IFERROR(VLOOKUP($G$35,出力シート!$C$11:$M$28,10,FALSE),\"\")","v":""},"cm"]
[null,4,null,null,null,null,null,4]
[]
[7,1,null,{"$f":"IFERROR(VLOOKUP($A$40,出力シート!$C$11:$M$28,2,FALSE),\"\")","v":""},null,{"$f":"IF(LEN(入力シート!H17)=2,LEFT(入力シート!H17,1)&\"　\"&RIGHT(入力シート!H17,1),入力シート!H17)","v":0},16,1,null,{"$f":"IFERROR(VLOOKUP($G$40,出力シート!$C$11:$M$28,2,FALSE),\"\")","v":""},null,{"$f":"IF(LEN(入力シート!H26)=2,LEFT(入力シート!H26,1)&\"　\"&RIGHT(入力シート!H26,1),入力シート!H26)","v":0}]
[null,2,null,{"$f":"IFERROR(VLOOKUP($A$40,出力シート!$C$11:$M$28,9,FALSE),\"\")","v":""},"年",null,null,2,null,{"$f":"IFERROR(VLOOKUP($G$40,出力シート!$C$11:$M$28,9,FALSE),\"\")","v":""},"年"]
[null,3,null,{"$f":"IFERROR(VLOOKUP($A$40,出力シート!$C$11:$M$28,10,FALSE),\"\")","v":""},"cm",null,null,3,null,{"$f":"IFERROR(VLOOKUP($G$40,出力シート!$C$11:$M$28,10,FALSE),\"\")","v":""},"cm"]
[null,4,null,null,null,null,null,4]
[]
[8,1,null,{"$f":"IFERROR(VLOOKUP($A$45,出力シート!$C$11:$M$28,2,FALSE),\"\")","v":""},null,{"$f":"IF(LEN(入力シート!H18)=2,LEFT(入力シート!H18,1)&\"　\"&RIGHT(入力シート!H18,1),入力シート!H18)","v":0},17,1,null,{"$f":"IFERROR(VLOOKUP($G$45,出力シート!$C$11:$M$28,2,FALSE),\"\")","v":""},null,{"$f":"IF(LEN(入力シート!H27)=2,LEFT(入力シート!H27,1)&\"　\"&RIGHT(入力シート!H27,1),入力シート!H27)","v":0}]
[null,2,null,{"$f":"IFERROR(VLOOKUP($A$45,出力シート!$C$11:$M$28,9,FALSE),\"\")","v":""},"年",null,null,2,null,{"$f":"IFERROR(VLOOKUP($G$45,出力シート!$C$11:$M$28,9,FALSE),\"\")","v":""},"年"]
[null,3,null,{"$f":"IFERROR(VLOOKUP($A$45,出力シート!$C$11:$M$28,10,FALSE),\"\")","v":""},"cm",null,null,3,null,{"$f":"IFERROR(VLOOKUP($G$45,出力シート!$C$11:$M$28,10,FALSE),\"\")","v":""},"cm"]
[null,4,null,null,null,null,null,4]
[]
[9,1,null,{"$f":"IFERROR(VLOOKUP($A$50,出力シート!$C$11:$M$28,2,FALSE),\"\")","v":""},null,{"$f":"IF(LEN(入力シート!H19)=2,LEFT(入力シート!H19,1)&\"　\"&RIGHT(入力シート!H19,1),入力シート!H19)","v":0},18,1,null,{"$f":"IFERROR(VLOOKUP($G$50,出力シート!$C$11:$M$28,2,FALSE),\"\")","v":""},null,{"$f":"IF(LEN(入力シート!H28)=2,LEFT(入力シート!H28,1)&\"　\"&RIGHT(入力シート!H28,1),入力シート!H28)","v":0}]
[null,2,null,{"$f":"IFERROR(VLOOKUP($A$50,出力シート!$C$11:$M$28,9,FALSE),\"\")","v":""},"年",null,null,2,null,{"$f":"IFERROR(VLOOKUP($G$50,出力シート!$C$11:$M$28,9,FALSE),\"\")","v":""},"年"]
[null,3,null,{"$f":"IFERROR(VLOOKUP($A$50,出力シート!$C$11:$M$28,10,FALSE),\"\")","v":""},"cm",null,null,3,null,{"$f":"IFERROR(VLOOKUP($G$50,出力シート!$C$11:$M$28,10,FALSE),\"\")","v":""},"cm"]
[null,4,null,null,null,null,null,4]